BEGIN:VCALENDAR
PRODID:-//eluceo/ical//2.0/EN
VERSION:2.0
CALSCALE:GREGORIAN
BEGIN:VEVENT
UID:fb8eeef24de9df1a0dc0c2299102021e
DTSTAMP:20260420T075950Z
SUMMARY:A Summer Celebration of Jewish Music- Transposing Broadway
DESCRIPTION:Jewish Federation of the Berkshires\nBerkshire Jewish Community
  Calendar\nhttps://jewishberkshires.org/jewish-federation-of-the-berkshire
 s-calendar/a-summer-celebration-of-jewish-music--transposing-broadway\n\nA
  Summer Celebration of Jewish Music- Transposing
DTSTART;TZID=America/New_York:20130707T150000
DTEND;TZID=America/New_York:20130707T180000
END:VEVENT
END:VCALENDAR
