BEGIN:VCALENDAR
PRODID:-//eluceo/ical//2.0/EN
VERSION:2.0
CALSCALE:GREGORIAN
BEGIN:VEVENT
UID:1f484a5b4a120244ddc39f4047d410d2
DTSTAMP:20260421T194056Z
SUMMARY:A Summer Celebration of Jewish Music
DESCRIPTION:Jewish Federation of the Berkshires\nBerkshire Jewish Community
  Calendar\nhttps://jewishberkshires.org/jewish-federation-of-the-berkshire
 s-calendar/a-summer-celebration-of-jewish-music\n\nSephardic Songs\, Andre
  Previn\, Darius Milbaud and Bruce Adolphe - A Summer Celebration of Jewis
 h Music 
DTSTART;TZID=America/New_York:20160602T193000
DTEND;TZID=America/New_York:20160602T211500
END:VEVENT
END:VCALENDAR
