BEGIN:VCALENDAR
PRODID:-//eluceo/ical//2.0/EN
VERSION:2.0
CALSCALE:GREGORIAN
BEGIN:VEVENT
UID:6d1edac2391a2e62bd42fb83d6e39508
DTSTAMP:20260421T080434Z
SUMMARY:A New Look at Military Vignettes and Their Implications on the Midd
 le East
DESCRIPTION:Jewish Federation of the Berkshires\nBerkshire Jewish Community
  Calendar\nhttps://jewishberkshires.org/jewish-federation-of-the-berkshire
 s-calendar/a-new-look-at-military-vignettes-and-their-implications-on-the-
 middle-east-1551809203\n\nFor each of the past few years\, Hevreh member S
 teve Schreier\, a frequent and knowledgeable visitor to Israel\, has made 
 insightful observations and even a few predictions in regard to various is
 sues facing Israel. This year\, Steve will review a series of Israeli mili
 tary vignettes and their implications on the Middle East. \n\nMuch has bee
 n written about Israel's military and defense accomplishments\; however\, 
 a great deal of intelligence and information has emerged recently that bri
 ngs into...
DTSTART;TZID=America/New_York:20190725T160000
DTEND;TZID=America/New_York:20190725T180000
END:VEVENT
END:VCALENDAR
