BEGIN:VCALENDAR
PRODID:-//eluceo/ical//2.0/EN
VERSION:2.0
CALSCALE:GREGORIAN
BEGIN:VEVENT
UID:f6e2ace1c6c7e267a944e7555df94780
DTSTAMP:20260420T235418Z
SUMMARY:A Different Concept of G-d
DESCRIPTION:Jewish Federation of the Berkshires\nBerkshire Jewish Community
  Calendar\nhttps://jewishberkshires.org/jewish-federation-of-the-berkshire
 s-calendar/a-new-concept-of-g-d\n\nThe Jewish Federation Connecting with C
 ommunity program presents "A Different Concept of G-d" with Michel Paul R
 ichard\, PhD.\n\nIt is apparent that many people today are turned off by t
 he idea of G-d as a Supreme Being in Judaism\, Christianity and Islam.  A
 t the same time\, they are uncomfortable with the labels "agnostic" or "a
 theist."  Richard's lecture is designed for them.  What happens when we
  apply this alternative definition of G-d to the concept of Heaven and He
 ll\, the problem o...
DTSTART;TZID=America/New_York:20191212T104500
DTEND;TZID=America/New_York:20191212T120000
END:VEVENT
END:VCALENDAR
