BEGIN:VCALENDAR
PRODID:-//eluceo/ical//2.0/EN
VERSION:2.0
CALSCALE:GREGORIAN
BEGIN:VEVENT
UID:6a38a0b83fa57cf4f75d28ede1d7072b
DTSTAMP:20260423T170121Z
SUMMARY:A Jewish Mystic's Approach to Loving God
DESCRIPTION:Jewish Federation of the Berkshires\nBerkshire Jewish Community
  Calendar\nhttps://jewishberkshires.org/jewish-federation-of-the-berkshire
 s-calendar/a-jewish-mystics-approach-to-loving-god\n\nDescriptions of the 
 mystic's journey often discuss how one becomes absorbed within the divine.
   But how do we train ourselves to have that experience and what does it f
 eel like?
DTSTART;TZID=America/New_York:20190808T104500
DTEND;TZID=America/New_York:20190808T120000
END:VEVENT
END:VCALENDAR
