BEGIN:VCALENDAR
PRODID:-//eluceo/ical//2.0/EN
VERSION:2.0
CALSCALE:GREGORIAN
BEGIN:VEVENT
UID:8fc1fa6ae45b758c540e856017d32d06
DTSTAMP:20260425T014253Z
SUMMARY:A Healthy Living Panel of Experts
DESCRIPTION:Jewish Federation of the Berkshires\nBerkshire Jewish Community
  Calendar\nhttps://jewishberkshires.org/jewish-federation-of-the-berkshire
 s-calendar/a-healthy-living-panel-of-experts\n\nThe Jewish Federation of t
 he Berkshires' Connecting with Community presents A Healthy Living Panel o
 f Experts: Exploring and Keeping the Berkshires Well.\n
DTSTART;TZID=America/New_York:20170720T104500
DTEND;TZID=America/New_York:20170720T120000
END:VEVENT
END:VCALENDAR
