BEGIN:VCALENDAR
PRODID:-//eluceo/ical//2.0/EN
VERSION:2.0
CALSCALE:GREGORIAN
BEGIN:VEVENT
UID:dc5a3744383c018edb802c93c89edf6a
DTSTAMP:20260422T011058Z
SUMMARY:A Day in the Life
DESCRIPTION:Jewish Federation of the Berkshires\nBerkshire Jewish Community
  Calendar\nhttps://jewishberkshires.org/jewish-federation-of-the-berkshire
 s-calendar/a-day-in-the-life-----\n\n"A Day in the Life...\," a three part
  series being held on Monday\, December 31\, Thursday\, January 24 and Mon
 day\, February 25.
DTSTART;TZID=America/New_York:20190124T104500
DTEND;TZID=America/New_York:20190124T120000
END:VEVENT
END:VCALENDAR
