BEGIN:VCALENDAR
PRODID:-//eluceo/ical//2.0/EN
VERSION:2.0
CALSCALE:GREGORIAN
BEGIN:VEVENT
UID:47cee56e6eb795c7a18e21689ec25612
DTSTAMP:20260424T073625Z
SUMMARY:A Classical Conversation
DESCRIPTION:Jewish Federation of the Berkshires\nBerkshire Jewish Community
  Calendar\nhttps://jewishberkshires.org/jewish-federation-of-the-berkshire
 s-calendar/a-classical-conversation-1776453053\n\nMusic at Hevreh presents
 : "A Classical Conversation\," an intimate evening of Jewish music and dis
 cussion featuring members of the Boston Symphony Orchestra and composer Ja
 kov Jakoulov. The concert will be in the Hevreh sanctuary. Tickets are $60
  for Hevreh members and $75 for non-members.
DTSTART;TZID=America/New_York:20260707T190000
DTEND;TZID=America/New_York:20260707T210000
END:VEVENT
END:VCALENDAR
