BEGIN:VCALENDAR
PRODID:-//eluceo/ical//2.0/EN
VERSION:2.0
CALSCALE:GREGORIAN
BEGIN:VEVENT
UID:cbbd1eff6a745ce02472e815180e4bca
DTSTAMP:20260424T082131Z
SUMMARY:Chanukah Family Festival
DESCRIPTION:Jewish Federation of the Berkshires\nBerkshire Jewish Community
  Calendar\nhttps://jewishberkshires.org/jewish-federation-of-the-berkshire
 s-calendar/Chanukah-family-festival\n\nA Chanukah celebration for the whol
 e family!  Enjoy a giant public menorah kindling ceremony\, live music\, f
 ace painting\, dancing\, hot potato latkes\, sufganiyot (doughnuts)\, choc
 olate gelt\, a grand raffle\, dreidels and a spectacular show. This progra
 m is free and open to the public. Sponsored by Chabad of the Berkshires in
  collaboration with the Jewish Federation of the Berkshires.
DTSTART;TZID=America/New_York:20141221T160000
DTEND;TZID=America/New_York:20141221T190000
END:VEVENT
END:VCALENDAR
