BEGIN:VCALENDAR
PRODID:-//eluceo/ical//2.0/EN
VERSION:2.0
CALSCALE:GREGORIAN
BEGIN:VEVENT
UID:1d417cf0087b7d44c14b0d5a88348936
DTSTAMP:20260420T062458Z
SUMMARY:57th Annual Hilda Vallin Feigenbaum Memorial Foundation Lecture
DESCRIPTION:Jewish Federation of the Berkshires\nBerkshire Jewish Community
  Calendar\nhttps://jewishberkshires.org/jewish-federation-of-the-berkshire
 s-calendar/57th-annual-hilda-vallin-feigenbaum-memorial-foundation-lecture
 -1711038767\n\nJoin us for the 57th Annual Hilda Vallin Feigenbaum Memoria
 l Foundation Lecture as we welcome John Heilemann\, National Affairs Analy
 st for MSNBC and CNBC and host\, creator\, and executive producer of Showt
 ime’s THE CIRCUS.\n\nThe lecture is free and open to the public. A recep
 tion will follow the lecture.\n\nPre-registration is recommended as seatin
 g is limited. The lecture will also be live-streamed through the Temple.
DTSTART;TZID=America/New_York:20240825T193000
DTEND;TZID=America/New_York:20240825T213000
END:VEVENT
END:VCALENDAR
