BEGIN:VCALENDAR
PRODID:-//eluceo/ical//2.0/EN
VERSION:2.0
CALSCALE:GREGORIAN
BEGIN:VEVENT
UID:25073303bc2dcd7c0fb8a01373bf91a9
DTSTAMP:20260422T235315Z
SUMMARY:55th Annual Hilda Vallin Feigenbaum Lecture
DESCRIPTION:Jewish Federation of the Berkshires\nBerkshire Jewish Community
  Calendar\nhttps://jewishberkshires.org/jewish-federation-of-the-berkshire
 s-calendar/55th-annual-hilda-vallin-feigenbaum-lecture-1659538332\n\nPleas
 e join Temple Anshe Amunim for the 55th Feigenbaum Lecture with speaker\, 
 Julian Castro. Mr. Castro is a political commentator for NBC News and MSNB
 C. Please note that pre-registration is required to attend this event. Wal
 k-ins will be limited based on capacity. Masks for required. For more info
 rmation and to register\, go to: www.ansheamunim.org
DTSTART;TZID=America/New_York:20220821T190000
DTEND;TZID=America/New_York:20220821T210000
END:VEVENT
END:VCALENDAR
