BEGIN:VCALENDAR
PRODID:-//eluceo/ical//2.0/EN
VERSION:2.0
CALSCALE:GREGORIAN
BEGIN:VEVENT
UID:4f1d8b8e2021e1be982d500ab425d4d3
DTSTAMP:20260420T235548Z
SUMMARY:52nd Annual Hilda Vallin Feigenbaum Memorial Lecture
DESCRIPTION:Jewish Federation of the Berkshires\nBerkshire Jewish Community
  Calendar\nhttps://jewishberkshires.org/jewish-federation-of-the-berkshire
 s-calendar/52nd-annual-hilda-vallin-feigenbaum-memorial-lecture-1562096520
 \n\nDr. Deborah Lipstadt joins us for the 52nd Annual Hilda Vallin Feigenb
 aum Memorial Foundation Lecture this month and the topic will be “Assaul
 t on Truth and Memory: Lessons from History.”  Dr. Lipstadt is a Dorot P
 rofessor of Modern Jewish and Holocaust Studies at Emory University in Atl
 anta and an historical consultant to the United States Holocaust Memorial 
 Museum.  The lecture is free and open to the public. A reception follows t
 he lecture. Seating is limited - arrive early. The Doors...
DTSTART;TZID=America/New_York:20190825T193000
DTEND;TZID=America/New_York:20190825T210000
END:VEVENT
END:VCALENDAR
