BEGIN:VCALENDAR
PRODID:-//eluceo/ical//2.0/EN
VERSION:2.0
CALSCALE:GREGORIAN
BEGIN:VEVENT
UID:de302fbcbeeab0853f0d7296671772ef
DTSTAMP:20260422T195039Z
SUMMARY:51st Annual Hilda Vallin Feigenbaum Memorial Lecture
DESCRIPTION:Jewish Federation of the Berkshires\nBerkshire Jewish Community
  Calendar\nhttps://jewishberkshires.org/jewish-federation-of-the-berkshire
 s-calendar/51st-annual-hilda-vallin-feigenbaum-memorial-lecture-1504810480
 \n\nSponsored by the Hilda Vallin Feigenbaum Lecture Endowment
DTSTART;TZID=America/New_York:20180826T193000
DTEND;TZID=America/New_York:20180826T203000
END:VEVENT
END:VCALENDAR
