BEGIN:VCALENDAR
PRODID:-//eluceo/ical//2.0/EN
VERSION:2.0
CALSCALE:GREGORIAN
BEGIN:VEVENT
UID:782c43069453ba2acf0bf123d9692cd5
DTSTAMP:20260424T031318Z
SUMMARY:48th Annual Hilda Vallin  Feigenbaum Lecture
DESCRIPTION:Jewish Federation of the Berkshires\nBerkshire Jewish Community
  Calendar\nhttps://jewishberkshires.org/jewish-federation-of-the-berkshire
 s-calendar/48th-annual-hilda-vallin--feigenbaum-lecture-1414688676\n\nThe 
 Feigenbaum Lecture series brings programs of outstanding social\, politica
 l and cultural significance to the Berkshires.
DTSTART;TZID=America/New_York:20150823T193000
DTEND;TZID=America/New_York:20150823T220000
END:VEVENT
END:VCALENDAR
