BEGIN:VCALENDAR
PRODID:-//eluceo/ical//2.0/EN
VERSION:2.0
CALSCALE:GREGORIAN
BEGIN:VEVENT
UID:289bc68f784109a88d0b4d10a8117b7f
DTSTAMP:20260422T202007Z
SUMMARY:47th Annual Hilda Vallin Feigenbaum Lecture
DESCRIPTION:Jewish Federation of the Berkshires\nBerkshire Jewish Community
  Calendar\nhttps://jewishberkshires.org/jewish-federation-of-the-berkshire
 s-calendar/47th-annual-hilda-vallin-feigenbaum-lecture\n\n47th Annual Hild
 a Vallin Feigenbaum Lecture
DTSTART;TZID=America/New_York:20140824T193000
DTEND;TZID=America/New_York:20140824T210000
END:VEVENT
END:VCALENDAR
