BEGIN:VCALENDAR
PRODID:-//eluceo/ical//2.0/EN
VERSION:2.0
CALSCALE:GREGORIAN
BEGIN:VEVENT
UID:78ab9d9285e2477cbc5e68414b315bf0
DTSTAMP:20260420T011407Z
SUMMARY:3RD GEN – A Survivor’s Story through Dance\, Performance and Ta
 lkback
DESCRIPTION:Jewish Federation of the Berkshires\nBerkshire Jewish Community
  Calendar\nhttps://jewishberkshires.org/jewish-federation-of-the-berkshire
 s-calendar/3rd-gen-\n\nExperience a powerful story of memory\, movement\, 
 and resilience. Join us for an intimate dance performance and talk-back fe
 aturing 3RD GEN\, a powerful memoir by acclaimed choreographer Shany Dagan
 . This event\, presented in collaboration with the Jewish Federation of th
 e Berkshires\, is free and open to the community.\n\nThrough movement and 
 storytelling\, 3RD GEN honors the resilience of Holocaust survivors while 
 illuminating the vital role their grandchildren play in carrying these sto
 ries for...
DTSTART;TZID=America/New_York:20260226T140000
DTEND;TZID=America/New_York:20260226T150000
END:VEVENT
END:VCALENDAR
