BEGIN:VCALENDAR
PRODID:-//eluceo/ical//2.0/EN
VERSION:2.0
CALSCALE:GREGORIAN
BEGIN:VEVENT
UID:481ab39e79172e8674950fa1ef7d85f4
DTSTAMP:20260421T203642Z
SUMMARY:Chabad Menorah Lighting
DESCRIPTION:Jewish Federation of the Berkshires\nBerkshire Jewish Community
  Calendar\nhttps://jewishberkshires.org/jewish-federation-of-the-berkshire
 s-calendar/2027-chabad-menorah-lighting-1764779209\n\nChanukah family fest
 ival!
DTSTART;TZID=America/New_York:20271226T160000
DTEND;TZID=America/New_York:20271226T200000
END:VEVENT
END:VCALENDAR
