BEGIN:VCALENDAR
PRODID:-//eluceo/ical//2.0/EN
VERSION:2.0
CALSCALE:GREGORIAN
BEGIN:VEVENT
UID:7b5e281e48d9c72318f252da49d9c702
DTSTAMP:20260421T175835Z
SUMMARY:2000 Years of French History: What does the future hold?
DESCRIPTION:Jewish Federation of the Berkshires\nBerkshire Jewish Community
  Calendar\nhttps://jewishberkshires.org/jewish-federation-of-the-berkshire
 s-calendar/2000-years-of-french-jewish-history-what-does-the-future-hold\n
 \nVia Zoom. Please register HERE.\n\nAfter their liberation by Napoleon\, 
 French Jews thought “liberté\, fraternité\, égalité” included them
  too. The Occupation and collaborationist activity proved otherwise. Today
 \, there is renewed anti-semitism that has several results. Some French Je
 ws have made aliyah to Israel\, while others are enjoying Jewish life in F
 rance. Today there is renewed anti-semitism. My pictures reflect the chang
 e in conditions in France over the past 30 years\n\nJane S. ...
DTSTART;TZID=America/New_York:20231204T190000
DTEND;TZID=America/New_York:20231204T200000
END:VEVENT
END:VCALENDAR
