BEGIN:VCALENDAR
PRODID:-//eluceo/ical//2.0/EN
VERSION:2.0
CALSCALE:GREGORIAN
BEGIN:VEVENT
UID:5f2d7b408cba475c9765a937dd08233d
DTSTAMP:20260421T141036Z
SUMMARY:1st Night Passover Seder at TAA
DESCRIPTION:Jewish Federation of the Berkshires\nBerkshire Jewish Community
  Calendar\nhttps://jewishberkshires.org/jewish-federation-of-the-berkshire
 s-calendar/1st-night-passover-seder-at-taa-1739984446\n\nCome join our old
 -new seder to relish and cherish the freedoms we hold dear. Led by Rabbi S
 cott Saulson.\n\nRegistration is required by April 1\, 2025. Please regist
 er and submit payment on the Temple Anshe Amunim website here. 
DTSTART;TZID=America/New_York:20250412T183000
DTEND;TZID=America/New_York:20250412T204500
END:VEVENT
END:VCALENDAR
