BEGIN:VCALENDAR
PRODID:-//eluceo/ical//2.0/EN
VERSION:2.0
CALSCALE:GREGORIAN
BEGIN:VEVENT
UID:cd701b6c995b24b72c3036ebd68de36a
DTSTAMP:20260421T214041Z
SUMMARY:"In the Land of Israel"  talk back interview with TAMIR
DESCRIPTION:Jewish Federation of the Berkshires\nBerkshire Jewish Community
  Calendar\nhttps://jewishberkshires.org/jewish-federation-of-the-berkshire
 s-calendar/-in-the-land-of-israel--talk-back-interview-with-tamir-16177295
 74\n\nTAMIR will answer questions from the community about In the Land of 
 Israel. It will be a chance to delve deeper into how she conceived her ada
 ptation and developed her characters
DTSTART;TZID=America/New_York:20210519T193000
DTEND;TZID=America/New_York:20210519T213000
END:VEVENT
END:VCALENDAR
