BEGIN:VCALENDAR
PRODID:-//eluceo/ical//2.0/EN
VERSION:2.0
CALSCALE:GREGORIAN
BEGIN:VEVENT
UID:be64fca6d8496bcf6964b427bd568562
DTSTAMP:20260421T230533Z
SUMMARY:Tot Shabbat on the Town with Hevreh
DESCRIPTION:Jewish Federation of the Berkshires\nHevreh of Southern Berkshi
 re\, Inc\nhttps://jewishberkshires.org/hevreh-of-southern-berkshire-inc/to
 t-shabbat-on-the-town-with-hevreh-1492534392-227819\n\nTot Shabbat is hitt
 ing the road! and setting up at Great Barrington’s beloved children’s 
 summer event\, David Grover at the Bandstand.  Look for the tables with bl
 ue and white balloons set up on the grass\, and join us for a special Shab
 bat breakfast treat!
DTSTART;TZID=America/New_York:20170715T093000
DTEND;TZID=America/New_York:20170715T110000
END:VEVENT
END:VCALENDAR
