BEGIN:VCALENDAR
PRODID:-//eluceo/ical//2.0/EN
VERSION:2.0
CALSCALE:GREGORIAN
BEGIN:VEVENT
UID:ab15b328802688aed6f3e756c6c3a301
DTSTAMP:20260421T005452Z
SUMMARY:Purimspiel at Hevreh!
DESCRIPTION:Jewish Federation of the Berkshires\nHevreh of Southern Berkshi
 re\, Inc\nhttps://jewishberkshires.org/hevreh-of-southern-berkshire-inc/pu
 rimspiel-at-hevreh-1422293025-132980\n\nFollow the Yellow Brick Road to th
 is Year's Purimspiel\, performed by Hevreh's Confirmation Class. At 5:30 w
 e will hold a Family Pizza Party and Costume Parade. Purimspiel starts at 
 6:00. Directed by Andrea Patel. See you in OZ!
DTSTART;TZID=America/New_York:20150304T053000
DTEND;TZID=America/New_York:20150304T200000
END:VEVENT
END:VCALENDAR
