BEGIN:VCALENDAR
PRODID:-//eluceo/ical//2.0/EN
VERSION:2.0
CALSCALE:GREGORIAN
BEGIN:VEVENT
UID:45bc20922b92edcf9a18f3ecdf2033c4
DTSTAMP:20260421T172131Z
SUMMARY:Purim Carnival at Hevreh!
DESCRIPTION:Jewish Federation of the Berkshires\nHevreh of Southern Berkshi
 re\, Inc\nhttps://jewishberkshires.org/hevreh-of-southern-berkshire-inc/pu
 rim-carnival-at-hevreh-1422293426-132986\n\nStay on the Yellow Brick Road 
 for this Years' Purim Carnival - The Wonderful Wizard of Shushan! The Carn
 ival is run by Hevreh's 7th & 8th grade students and promises to be a ton 
 of fun! All are welcome. Step right up to the Emerald City of Shushan for 
 a wonderful afternoon of games\, treats\, and prizes. We'll have a Costume
  Contest for the best-dressed and most creative costumes. Tickets ar 50 ce
 nts for 1 and $5 for 12 tickets. All proceeds go to Tzedakah.
DTSTART;TZID=America/New_York:20150308T120000
DTEND;TZID=America/New_York:20150308T160000
END:VEVENT
END:VCALENDAR
