BEGIN:VCALENDAR
PRODID:-//eluceo/ical//2.0/EN
VERSION:2.0
CALSCALE:GREGORIAN
BEGIN:VEVENT
UID:3da0fa63e87e03037e7592aa4262383d
DTSTAMP:20260420T025058Z
SUMMARY:PJ Library & Hevreh Community Chanukah Warm Up Party with David Gro
 ver
DESCRIPTION:Jewish Federation of the Berkshires\nHevreh of Southern Berkshi
 re\, Inc\nhttps://jewishberkshires.org/hevreh-of-southern-berkshire-inc/pj
 -library-and-hevreh-chanukah-program-249542\n\nPJ Library and Hevreh Commu
 nity Chanukah Warm Up Party with David Grover
DTSTART;TZID=America/New_York:20171210T150000
DTEND;TZID=America/New_York:20171210T170000
END:VEVENT
END:VCALENDAR
