BEGIN:VCALENDAR
PRODID:-//eluceo/ical//2.0/EN
VERSION:2.0
CALSCALE:GREGORIAN
BEGIN:VEVENT
UID:12a4ea371664927277346a85f1c07a28
DTSTAMP:20260425T115202Z
SUMMARY:JCA Grand Auction Fundraiser
DESCRIPTION:Jewish Federation of the Berkshires\nHevreh of Southern Berkshi
 re\, Inc\nhttps://jewishberkshires.org/hevreh-of-southern-berkshire-inc/jc
 a-grand-auction-fundraiser-43889\n\nJCA Grand Auction
DTSTART;TZID=America/New_York:20131116T190000
DTEND;TZID=America/New_York:20131116T220000
END:VEVENT
END:VCALENDAR
