BEGIN:VCALENDAR
PRODID:-//eluceo/ical//2.0/EN
VERSION:2.0
CALSCALE:GREGORIAN
BEGIN:VEVENT
UID:053997eaa5c5c055ae37b8b8bb31d750
DTSTAMP:20260421T005651Z
SUMMARY:Havdalah at Tanglewood
DESCRIPTION:Jewish Federation of the Berkshires\nHevreh of Southern Berkshi
 re\, Inc\nhttps://jewishberkshires.org/hevreh-of-southern-berkshire-inc/ha
 vdalah-at-tanglewood-1720752158-471720\n\nThis event is part of "HUC-JIR i
 n the Berkshires" programming.\n\nBring your friends and family for an eve
 ning of contemporary music\, beginning with Havdalah led by Cantor Jill Ab
 ramson ’02. Cantor Abramson will lead a conversation with Rabbi Dan Free
 lander ’79 and Cantor Jeff Klepper ’80 as part of the launch of their 
 new book and collection celebrating 50 years of songwriting that began at 
 HUC-JIR in the 1970’s. This work shows the possibilities of collaboratio
 n between HUC-JIR’s ...
DTSTART;TZID=America/New_York:20240727T180000
DTEND;TZID=America/New_York:20240727T190000
END:VEVENT
END:VCALENDAR
