BEGIN:VCALENDAR
PRODID:-//eluceo/ical//2.0/EN
VERSION:2.0
CALSCALE:GREGORIAN
BEGIN:VEVENT
UID:6b2c650c706201b851dac50c19365949
DTSTAMP:20260421T233858Z
SUMMARY:Fred Lafer Memorial Lecture: The State of Jewish America in 2018
DESCRIPTION:Jewish Federation of the Berkshires\nHevreh of Southern Berkshi
 re\, Inc\nhttps://jewishberkshires.org/hevreh-of-southern-berkshire-inc/fr
 ed-lafer-memorial-lecture-the-state-of-jewish-america-in-2018-1510244069-2
 51983\n\nEach year\, in honor of the memory and legacy of Fred Lafer\, Hev
 reh hosts a lecture that addresses the current opportunities and challenge
 s facing American and Israeli Jewish life. Past lecturers have included Fo
 rmer US Ambassador to Israel Dennis Ross\, Israeli broadcast journalists a
 nd political analyst Ehud Yaari\, and Jerusalem City Council Member Laura 
 Wharton. This year\, Hevreh welcomes Stephen Greenberg\, chair of the Conf
 erence of Presidents of Major American Jewish Organizations.\nMr. Gr...
DTSTART;TZID=America/New_York:20180415T160000
DTEND;TZID=America/New_York:20180415T193000
END:VEVENT
END:VCALENDAR
