BEGIN:VCALENDAR
PRODID:-//eluceo/ical//2.0/EN
VERSION:2.0
CALSCALE:GREGORIAN
BEGIN:VEVENT
UID:896dfc569514b08c0da494bc3f138965
DTSTAMP:20260423T090901Z
SUMMARY:Jewishly Delicious - Jewish Farm to Jewish Table - Oct 8th
DESCRIPTION:Jewish Federation of the Berkshires\nHevreh of Southern Berkshi
 re\, Inc\nhttps://jewishberkshires.org/hevreh-of-southern-berkshire-inc/fe
 deration-jewishly-delicious-163116\n\nJewishly Delicious - Jewish Farm to 
 Jewish Table
DTSTART;TZID=America/New_York:20151008T100000
DTEND;TZID=America/New_York:20151008T140000
END:VEVENT
END:VCALENDAR
