BEGIN:VCALENDAR
PRODID:-//eluceo/ical//2.0/EN
VERSION:2.0
CALSCALE:GREGORIAN
BEGIN:VEVENT
UID:e35221899cedb829a9a7400ce5b5fec9
DTSTAMP:20260421T005543Z
SUMMARY:2nd Tu B'Shevat Seder at Hevreh
DESCRIPTION:Jewish Federation of the Berkshires\nHevreh of Southern Berkshi
 re\, Inc\nhttps://jewishberkshires.org/hevreh-of-southern-berkshire-inc/2n
 d-tu-bshevat-seder-at-hevreh-1422288273-132943\n\nAll are welcome to celeb
 rate with us!
DTSTART;TZID=America/New_York:20150204T163000
DTEND;TZID=America/New_York:20150204T173000
END:VEVENT
END:VCALENDAR
