BEGIN:VCALENDAR
PRODID:-//eluceo/ical//2.0/EN
VERSION:2.0
CALSCALE:GREGORIAN
BEGIN:VEVENT
UID:c683e8a3b7b5a337e31f48b16b4f355b
DTSTAMP:20260422T171634Z
SUMMARY:Taste Of Memory - Chef Myrna Hammerling
DESCRIPTION:Jewish Federation of the Berkshires\nCongregation Knesset Israe
 l\nhttps://jewishberkshires.org/congregation-knesset-israel/taste-of-memor
 y---chef-myrna-hammerling\n\nTaste Of Memory - Chef Myrna Hammerling
DTSTART;TZID=America/New_York:20130506T193000
DTEND;TZID=America/New_York:20130506T200000
END:VEVENT
END:VCALENDAR
