BEGIN:VCALENDAR
PRODID:-//eluceo/ical//2.0/EN
VERSION:2.0
CALSCALE:GREGORIAN
BEGIN:VEVENT
UID:b2abc0fce0a3827033c9f39978bd16a8
DTSTAMP:20260424T134236Z
SUMMARY:Shirei Shabbat and Community Dinner
DESCRIPTION:Jewish Federation of the Berkshires\nCongregation Knesset Israe
 l\nhttps://jewishberkshires.org/congregation-knesset-israel/shirei-shabbat
 -and-community-dinner-1712071301-463527\n\nMusical\, family-friendly 'Shir
 ei Shabbat' service at 5:45 - followed by a kosher dinner at 6:45. Registr
 ation necessary for dinner. Adults $20\, Under 18 Free.
DTSTART;TZID=America/New_York:20240712T174500
DTEND;TZID=America/New_York:20240712T194500
END:VEVENT
END:VCALENDAR
