BEGIN:VCALENDAR
PRODID:-//eluceo/ical//2.0/EN
VERSION:2.0
CALSCALE:GREGORIAN
BEGIN:VEVENT
UID:64673dd7547284dd77aeece9a90399a6
DTSTAMP:20260419T201825Z
SUMMARY:Shirei Shabbat and After Dinner Program
DESCRIPTION:Jewish Federation of the Berkshires\nCongregation Knesset Israe
 l\nhttps://jewishberkshires.org/congregation-knesset-israel/shirei-shabbat
 -and-after-dinner-program\n\nShirei Shabbat and After Dinner Program
DTSTART;TZID=America/New_York:20140328T173000
DTEND;TZID=America/New_York:20140328T203000
END:VEVENT
END:VCALENDAR
