BEGIN:VCALENDAR
PRODID:-//eluceo/ical//2.0/EN
VERSION:2.0
CALSCALE:GREGORIAN
BEGIN:VEVENT
UID:68417cdc4bd93e8425cd8765f422f8d0
DTSTAMP:20260424T235356Z
SUMMARY:Shirei Shabbat
DESCRIPTION:Jewish Federation of the Berkshires\nCongregation Knesset Israe
 l\nhttps://jewishberkshires.org/congregation-knesset-israel/shirei-shabbat
 \n\nShirei Shabbat
DTSTART;TZID=America/New_York:20130111T173000
DTEND;TZID=America/New_York:20130111T180000
END:VEVENT
END:VCALENDAR
