BEGIN:VCALENDAR
PRODID:-//eluceo/ical//2.0/EN
VERSION:2.0
CALSCALE:GREGORIAN
BEGIN:VEVENT
UID:5708bd15015519ffb8cf866f84e8cf42
DTSTAMP:20260425T234158Z
SUMMARY:“Saturday Night at the Movies”
DESCRIPTION:Jewish Federation of the Berkshires\nCongregation Knesset Israe
 l\nhttps://jewishberkshires.org/congregation-knesset-israel/saturday-night
 -at-the-movies-1519840553-263240\n\nCinema at Knesset Israel :\n\nFrank vs
 . God: Jewish lawyer sues heaven against “An Act of God”\n\n$5
DTSTART;TZID=America/New_York:20180317T201500
DTEND;TZID=America/New_York:20180317T221500
END:VEVENT
END:VCALENDAR
