BEGIN:VCALENDAR
PRODID:-//eluceo/ical//2.0/EN
VERSION:2.0
CALSCALE:GREGORIAN
BEGIN:VEVENT
UID:1b875ab928f57eeb9715ecb5f20b8dd6
DTSTAMP:20260421T193108Z
SUMMARY:KI End of Schoolyear Celebration\, Reopening of Bobby Braun Memoria
 l Garden
DESCRIPTION:Jewish Federation of the Berkshires\nCongregation Knesset Israe
 l\nhttps://jewishberkshires.org/congregation-knesset-israel/ki-end-of-scho
 olyear-celebration-reopening-of-bobby-braun-memorial-garden-1649249490-404
 870\n\nSaturday\, June 4 marks the beginning of summer at KI\, and the reo
 pening of the reimagined Bobby Braun Memorial Garden. We'll hold Saturday 
 morning Shabbat services\, celebrate Hebrew School graduation with a kiddu
 sh lunch\, and conclude with dessert in the garden. After three seasons of
  hard work\, we're thrilled to celebrate the garden's restoration\, and it
 s potential in the future life of our community. Improvements like a new p
 aved pathway and stair rail make the garden more accessible for al...
DTSTART;TZID=America/New_York:20220604T093000
DTEND;TZID=America/New_York:20220604T113000
END:VEVENT
END:VCALENDAR
