BEGIN:VCALENDAR
PRODID:-//eluceo/ical//2.0/EN
VERSION:2.0
CALSCALE:GREGORIAN
BEGIN:VEVENT
UID:29986780c835c7c7a8750dab541cb058
DTSTAMP:20260421T025313Z
SUMMARY:Wildman Shabbaton
DESCRIPTION:Jewish Federation of the Berkshires\nCongregation Knesset Israe
 l\nhttps://jewishberkshires.org/congregation-knesset-israel/ki-1413814495-
 121094\n\nCongregation Knesset Israel Shabbaton with speaker/author Sarah 
 Wildman. Details TBA
DTSTART;TZID=America/New_York:20150612T173000
DTEND;TZID=America/New_York:20150613T150000
END:VEVENT
END:VCALENDAR
