BEGIN:VCALENDAR
PRODID:-//eluceo/ical//2.0/EN
VERSION:2.0
CALSCALE:GREGORIAN
BEGIN:VEVENT
UID:203cd40a02a1fbf7924a5727799fb6e4
DTSTAMP:20260420T205201Z
SUMMARY:Celebrity Wine Dinner
DESCRIPTION:Jewish Federation of the Berkshires\nCongregation Knesset Israe
 l\nhttps://jewishberkshires.org/congregation-knesset-israel/celebrity-wine
 -dinner\n\nCelebrity Wine Dinner
DTSTART;TZID=America/New_York:20130630T163000
DTEND;TZID=America/New_York:20130630T210000
END:VEVENT
END:VCALENDAR
