BEGIN:VCALENDAR
PRODID:-//eluceo/ical//2.0/EN
VERSION:2.0
CALSCALE:GREGORIAN
BEGIN:VEVENT
UID:f8be2fa3a508011087826ecb064945c2
DTSTAMP:20260420T212242Z
SUMMARY:Hadassah Mah Jongg Party
DESCRIPTION:Jewish Federation of the Berkshires\nBerkshire Hills Hadassah\n
 https://jewishberkshires.org/berkshire-hills-hadassah/hadassah-mah-jongg-p
 arty-1541447612-291718\n\nEnjoy an afternoon of Mah Jongg and desserts in 
 a charming bed and breakfast in Lenox.
DTSTART;TZID=America/New_York:20190207T123000
DTEND;TZID=America/New_York:20190207T153000
END:VEVENT
END:VCALENDAR
