BEGIN:VCALENDAR
PRODID:-//eluceo/ical//2.0/EN
VERSION:2.0
CALSCALE:GREGORIAN
BEGIN:VEVENT
UID:d3b4091e57eef5a1cc14293a3b0a72d4
DTSTAMP:20260424T040745Z
SUMMARY:Federation showing of film "Body and Soul - The State of The Jewish
  Nation"
DESCRIPTION:Jewish Federation of the Berkshires\nBerkshire Hills Hadassah\n
 https://jewishberkshires.org/berkshire-hills-hadassah/federation-showing-o
 f-film-body-and-soul-the-state-of-the-jewish-nation-145262\n\nThe Jewish F
 ederation of the Berkshires in collaboration with Hadassah will present th
 e film\, Body and Soul – The State of the Jewish Nation
DTSTART;TZID=America/New_York:20151014T190000
DTEND;TZID=America/New_York:20151014T220000
END:VEVENT
END:VCALENDAR
