BEGIN:VCALENDAR
PRODID:-//eluceo/ical//2.0/EN
VERSION:2.0
CALSCALE:GREGORIAN
BEGIN:VEVENT
UID:97c97bb173b8888df7f434a05cc62d78
DTSTAMP:20260420T025221Z
SUMMARY:Berkshire Hills Hadassah Book Group
DESCRIPTION:Jewish Federation of the Berkshires\nBerkshire Hills Hadassah\n
 https://jewishberkshires.org/berkshire-hills-hadassah/berkshire-hills-hada
 ssah-book-group-1710867581-462367\n\nDiscussion of The Heaven and Earth Gr
 ocery Store by James McBride.\n\nPlease call to sign up. \n\n 
DTSTART;TZID=America/New_York:20240513T104500
DTEND;TZID=America/New_York:20240513T120000
END:VEVENT
END:VCALENDAR
